BEGIN:VCALENDAR
VERSION:2.0
PRODID:-//佛教沈東福幼稚園 - ECPv6.7.0//NONSGML v1.0//EN
CALSCALE:GREGORIAN
METHOD:PUBLISH
X-WR-CALNAME:佛教沈東福幼稚園
X-ORIGINAL-URL:https://sumtungfookkg.edu.hk
X-WR-CALDESC:Events for 佛教沈東福幼稚園
REFRESH-INTERVAL;VALUE=DURATION:PT1H
X-Robots-Tag:noindex
X-PUBLISHED-TTL:PT1H
BEGIN:VTIMEZONE
TZID:Asia/Taipei
BEGIN:STANDARD
TZOFFSETFROM:+0800
TZOFFSETTO:+0800
TZNAME:CST
DTSTART:20230101T000000
END:STANDARD
END:VTIMEZONE
BEGIN:VEVENT
DTSTART;VALUE=DATE:20231006
DTEND;VALUE=DATE:20231007
DTSTAMP:20260425T040054
CREATED:20231012T191152Z
LAST-MODIFIED:20231012T191152Z
UID:4860-1696550400-1696636799@sumtungfookkg.edu.hk
SUMMARY:流感針
DESCRIPTION:
URL:https://sumtungfookkg.edu.hk/event/%e6%b5%81%e6%84%9f%e9%87%9d/
END:VEVENT
END:VCALENDAR