BEGIN:VCALENDAR
VERSION:2.0
PRODID:-//佛教沈東福幼稚園 - ECPv6.7.0//NONSGML v1.0//EN
CALSCALE:GREGORIAN
METHOD:PUBLISH
X-ORIGINAL-URL:https://sumtungfookkg.edu.hk
X-WR-CALDESC:Events for 佛教沈東福幼稚園
REFRESH-INTERVAL;VALUE=DURATION:PT1H
X-Robots-Tag:noindex
X-PUBLISHED-TTL:PT1H
BEGIN:VTIMEZONE
TZID:Asia/Taipei
BEGIN:STANDARD
TZOFFSETFROM:+0800
TZOFFSETTO:+0800
TZNAME:CST
DTSTART:20240101T000000
END:STANDARD
END:VTIMEZONE
BEGIN:VEVENT
DTSTART;VALUE=DATE:20240404
DTEND;VALUE=DATE:20240406
DTSTAMP:20260422T095813
CREATED:20240222T053415Z
LAST-MODIFIED:20240222T053415Z
UID:4953-1712188800-1712361599@sumtungfookkg.edu.hk
SUMMARY:清明節
DESCRIPTION:
URL:https://sumtungfookkg.edu.hk/event/%e6%b8%85%e6%98%8e%e7%af%80/
CATEGORIES:holiday
END:VEVENT
END:VCALENDAR