BEGIN:VCALENDAR
VERSION:2.0
PRODID:-//佛教沈東福幼稚園 - ECPv6.7.0//NONSGML v1.0//EN
CALSCALE:GREGORIAN
METHOD:PUBLISH
X-ORIGINAL-URL:https://sumtungfookkg.edu.hk
X-WR-CALDESC:Events for 佛教沈東福幼稚園
REFRESH-INTERVAL;VALUE=DURATION:PT1H
X-Robots-Tag:noindex
X-PUBLISHED-TTL:PT1H
BEGIN:VTIMEZONE
TZID:Asia/Taipei
BEGIN:STANDARD
TZOFFSETFROM:+0800
TZOFFSETTO:+0800
TZNAME:CST
DTSTART:20230101T000000
END:STANDARD
END:VTIMEZONE
BEGIN:VEVENT
DTSTART;VALUE=DATE:20231002
DTEND;VALUE=DATE:20231003
DTSTAMP:20260425T022121
CREATED:20231012T191002Z
LAST-MODIFIED:20231012T191002Z
UID:4858-1696204800-1696291199@sumtungfookkg.edu.hk
SUMMARY:國慶日翌日
DESCRIPTION:
URL:https://sumtungfookkg.edu.hk/event/%e5%9c%8b%e6%85%b6%e6%97%a5%e7%bf%8c%e6%97%a5/
CATEGORIES:holiday
END:VEVENT
BEGIN:VEVENT
DTSTART;VALUE=DATE:20231006
DTEND;VALUE=DATE:20231007
DTSTAMP:20260425T022121
CREATED:20231012T191152Z
LAST-MODIFIED:20231012T191152Z
UID:4860-1696550400-1696636799@sumtungfookkg.edu.hk
SUMMARY:流感針
DESCRIPTION:
URL:https://sumtungfookkg.edu.hk/event/%e6%b5%81%e6%84%9f%e9%87%9d/
END:VEVENT
BEGIN:VEVENT
DTSTART;VALUE=DATE:20231020
DTEND;VALUE=DATE:20231021
DTSTAMP:20260425T022121
CREATED:20231012T185158Z
LAST-MODIFIED:20231012T185158Z
UID:4848-1697760000-1697846399@sumtungfookkg.edu.hk
SUMMARY:教師發展日
DESCRIPTION:
URL:https://sumtungfookkg.edu.hk/event/%e6%95%99%e5%b8%ab%e7%99%bc%e5%b1%95%e6%97%a5/
END:VEVENT
BEGIN:VEVENT
DTSTART;VALUE=DATE:20231023
DTEND;VALUE=DATE:20231024
DTSTAMP:20260425T022121
CREATED:20231012T185903Z
LAST-MODIFIED:20231012T185903Z
UID:4853-1698019200-1698105599@sumtungfookkg.edu.hk
SUMMARY:重陽節
DESCRIPTION:
URL:https://sumtungfookkg.edu.hk/event/%e9%87%8d%e9%99%bd%e7%af%80/
CATEGORIES:holiday
END:VEVENT
BEGIN:VEVENT
DTSTART;VALUE=DATE:20231027
DTEND;VALUE=DATE:20231028
DTSTAMP:20260425T022121
CREATED:20231012T190926Z
LAST-MODIFIED:20231012T190926Z
UID:4856-1698364800-1698451199@sumtungfookkg.edu.hk
SUMMARY:生日會
DESCRIPTION:
URL:https://sumtungfookkg.edu.hk/event/%e7%94%9f%e6%97%a5%e6%9c%83/
END:VEVENT
BEGIN:VEVENT
DTSTART;VALUE=DATE:20231028
DTEND;VALUE=DATE:20231029
DTSTAMP:20260425T022121
CREATED:20231012T185238Z
LAST-MODIFIED:20231012T185238Z
UID:4850-1698451200-1698537599@sumtungfookkg.edu.hk
SUMMARY:家長講座
DESCRIPTION:
URL:https://sumtungfookkg.edu.hk/event/%e5%ae%b6%e9%95%b7%e8%ac%9b%e5%ba%a7/
END:VEVENT
END:VCALENDAR